BEGIN:VCALENDAR
VERSION:2.0
PRODID:-//evld.org//evld 1.0//EN
CALSCALE:GREGORIAN
METHOD:PUBLISH
BEGIN:VTIMEZONE
TZID:America/Denver
BEGIN:STANDARD
DTSTART:19700308T020000
RRULE:FREQ=YEARLY;BYMONTH=11;BYDAY=1SU
TZOFFSETFROM:-0600
TZOFFSETTO:-0700
TZNAME:MST
END:STANDARD
BEGIN:DAYLIGHT
DTSTART:19700308T020000
RRULE:FREQ=YEARLY;BYMONTH=3;BYDAY=2SU
TZOFFSETFROM:-0700
TZOFFSETTO:-0600
TZNAME:MDT
END:DAYLIGHT
END:VTIMEZONE
BEGIN:VEVENT
SUMMARY:Teen Nights: Anime & Pizza!
UID:c60eeb7a-3c0d-45fc-952f-cfc85997f8b4
SEQUENCE:0
STATUS:CONFIRMED
TRANSP:TRANSPARENT
DTSTART;TZID=America/Denver:20240801T183000
DTEND;TZID=America/Denver:20240801T193000
DTSTAMP;TZID=America/Denver:20260421T233823
LOCATION:Avon Public Library 
GEO:39.635367;-106.526901
DESCRIPTION:Join other teens at the Avon Public Library on the first Thursday of every month for Anime and pizza. 

END:VEVENT
END:VCALENDAR
