BEGIN:VCALENDAR
VERSION:2.0
PRODID:-//evld.org//evld 1.0//EN
CALSCALE:GREGORIAN
METHOD:PUBLISH
BEGIN:VTIMEZONE
TZID:America/Denver
BEGIN:STANDARD
DTSTART:19700308T020000
RRULE:FREQ=YEARLY;BYMONTH=11;BYDAY=1SU
TZOFFSETFROM:-0600
TZOFFSETTO:-0700
TZNAME:MST
END:STANDARD
BEGIN:DAYLIGHT
DTSTART:19700308T020000
RRULE:FREQ=YEARLY;BYMONTH=3;BYDAY=2SU
TZOFFSETFROM:-0700
TZOFFSETTO:-0600
TZNAME:MDT
END:DAYLIGHT
END:VTIMEZONE
BEGIN:VEVENT
SUMMARY:Tech Talks for Seniors: Smartphone Photography
UID:06f0a422-9629-4290-8b90-33c39937e3c2
SEQUENCE:0
STATUS:CONFIRMED
TRANSP:TRANSPARENT
DTSTART;TZID=America/Denver:20240909T140000
DTEND;TZID=America/Denver:20240909T150000
DTSTAMP;TZID=America/Denver:20260419T152702
LOCATION:Eagle Public Library
GEO:39.650690;-106.827430
DESCRIPTION:Information about the AARP supported Eagle Valley Library District event for seniors focusing on increasing technology skills and awareness.
END:VEVENT
END:VCALENDAR
