BEGIN:VCALENDAR
VERSION:2.0
PRODID:-//evld.org//evld 1.0//EN
CALSCALE:GREGORIAN
METHOD:PUBLISH
BEGIN:VTIMEZONE
TZID:America/Denver
BEGIN:STANDARD
DTSTART:19700308T020000
RRULE:FREQ=YEARLY;BYMONTH=11;BYDAY=1SU
TZOFFSETFROM:-0600
TZOFFSETTO:-0700
TZNAME:MST
END:STANDARD
BEGIN:DAYLIGHT
DTSTART:19700308T020000
RRULE:FREQ=YEARLY;BYMONTH=3;BYDAY=2SU
TZOFFSETFROM:-0700
TZOFFSETTO:-0600
TZNAME:MDT
END:DAYLIGHT
END:VTIMEZONE
BEGIN:VEVENT
SUMMARY:Eagle Teen Night-Donuts and Drawing 
UID:0eaa053a-e68d-48a9-8b2e-807337935a8e
SEQUENCE:0
STATUS:CONFIRMED
TRANSP:TRANSPARENT
DTSTART;TZID=America/Denver:20240905T170000
DTEND;TZID=America/Denver:20240905T180000
DTSTAMP;TZID=America/Denver:20260419T110121
LOCATION:Eagle Public Library
GEO:39.650690;-106.827430
DESCRIPTION:Join us as we participate in a fun, online drawing lesson with a sweet treat on the library. 
END:VEVENT
END:VCALENDAR
