BEGIN:VCALENDAR
VERSION:2.0
PRODID:-//evld.org//evld 1.0//EN
CALSCALE:GREGORIAN
METHOD:PUBLISH
BEGIN:VTIMEZONE
TZID:America/Denver
BEGIN:STANDARD
DTSTART:19700308T020000
RRULE:FREQ=YEARLY;BYMONTH=11;BYDAY=1SU
TZOFFSETFROM:-0600
TZOFFSETTO:-0700
TZNAME:MST
END:STANDARD
BEGIN:DAYLIGHT
DTSTART:19700308T020000
RRULE:FREQ=YEARLY;BYMONTH=3;BYDAY=2SU
TZOFFSETFROM:-0700
TZOFFSETTO:-0600
TZNAME:MDT
END:DAYLIGHT
END:VTIMEZONE
BEGIN:VEVENT
SUMMARY:Bookmobile at Eagle River Village
UID:f6db9280-a2e9-4ce3-b80c-badb371bde87
SEQUENCE:0
STATUS:CONFIRMED
TRANSP:TRANSPARENT
DTSTART;TZID=America/Denver:20260428T140000
DTEND;TZID=America/Denver:20260428T160000
DTSTAMP;TZID=America/Denver:20260423T021154
LOCATION:Eagle River Village
GEO:0;0
DESCRIPTION:The mobile library will be visiting locations throughout the Valley from Dotsero to Minturn, McCoy to Redcliff and everywhere in between.
END:VEVENT
END:VCALENDAR
