BEGIN:VCALENDAR
VERSION:2.0
PRODID:-//evld.org//evld 1.0//EN
CALSCALE:GREGORIAN
METHOD:PUBLISH
BEGIN:VTIMEZONE
TZID:America/Denver
BEGIN:STANDARD
DTSTART:19700308T020000
RRULE:FREQ=YEARLY;BYMONTH=11;BYDAY=1SU
TZOFFSETFROM:-0600
TZOFFSETTO:-0700
TZNAME:MST
END:STANDARD
BEGIN:DAYLIGHT
DTSTART:19700308T020000
RRULE:FREQ=YEARLY;BYMONTH=3;BYDAY=2SU
TZOFFSETFROM:-0700
TZOFFSETTO:-0600
TZNAME:MDT
END:DAYLIGHT
END:VTIMEZONE
BEGIN:VEVENT
SUMMARY:All-Ages Clothing Exchange
UID:1d47f6e2-a97d-4eac-9414-0eef0897adf4
SEQUENCE:0
STATUS:CONFIRMED
TRANSP:TRANSPARENT
DTSTART;TZID=America/Denver:20260425T100000
DTEND;TZID=America/Denver:20260425T160000
DTSTAMP;TZID=America/Denver:20260422T080213
LOCATION:Gypsum Public Library
GEO:39.641560;-106.948550
DESCRIPTION:Bring clean clothes you're ready to part with to the library and exchange them for a whole new wardrobe! We will also be accepting puzzles, toys, and games.

Donations will be accepted at the Gypsum Library starting on Monday, April 13. Please limit your donations to one bag per person. There is no need to bring a donation to attend the event. 
END:VEVENT
END:VCALENDAR
