BEGIN:VCALENDAR
VERSION:2.0
PRODID:-//evld.org//evld 1.0//EN
CALSCALE:GREGORIAN
METHOD:PUBLISH
BEGIN:VTIMEZONE
TZID:America/Denver
BEGIN:STANDARD
DTSTART:19700308T020000
RRULE:FREQ=YEARLY;BYMONTH=11;BYDAY=1SU
TZOFFSETFROM:-0600
TZOFFSETTO:-0700
TZNAME:MST
END:STANDARD
BEGIN:DAYLIGHT
DTSTART:19700308T020000
RRULE:FREQ=YEARLY;BYMONTH=3;BYDAY=2SU
TZOFFSETFROM:-0700
TZOFFSETTO:-0600
TZNAME:MDT
END:DAYLIGHT
END:VTIMEZONE
BEGIN:VEVENT
SUMMARY:Movie Matinee: "Wicked: For Good"
UID:364f34d9-e7a0-4b6e-bf5f-f9568c6620a2
SEQUENCE:0
STATUS:CONFIRMED
TRANSP:TRANSPARENT
DTSTART;TZID=America/Denver:20260504T130000
DTEND;TZID=America/Denver:20260504T153000
DTSTAMP;TZID=America/Denver:20260423T020727
LOCATION:Eagle Public Library
GEO:39.650690;-106.827430
DESCRIPTION:Join us for a free showing of “Wicked: For Good” (2025)!

Elphaba, cast out as the Wicked Witch, hides in the forest, fighting for Oz's oppressed Animals and seeking to reveal the Wizard's lies. Glinda, now a beloved public figure, enjoys fame in Emerald City but is troubled by her lost bond with Elphaba. As she tries to reconcile them, tensions rise, affecting Boq, Fiyero, and Nessarose, especially when a girl from Kansas arrives. In the face of rising conflict, Elphaba and Glinda must reunite, confronting truth and empathy to change Oz forever. 

Popcorn and light refreshments will be provided!

END:VEVENT
END:VCALENDAR
