BEGIN:VCALENDAR
VERSION:2.0
PRODID:-//evld.org//evld 1.0//EN
CALSCALE:GREGORIAN
METHOD:PUBLISH
BEGIN:VTIMEZONE
TZID:America/Denver
BEGIN:STANDARD
DTSTART:19700308T020000
RRULE:FREQ=YEARLY;BYMONTH=11;BYDAY=1SU
TZOFFSETFROM:-0600
TZOFFSETTO:-0700
TZNAME:MST
END:STANDARD
BEGIN:DAYLIGHT
DTSTART:19700308T020000
RRULE:FREQ=YEARLY;BYMONTH=3;BYDAY=2SU
TZOFFSETFROM:-0700
TZOFFSETTO:-0600
TZNAME:MDT
END:DAYLIGHT
END:VTIMEZONE
BEGIN:VEVENT
SUMMARY:Eagle Book Club
UID:e6dbb398-abd1-4a06-ab27-a25ed3ff9072
SEQUENCE:0
STATUS:CONFIRMED
TRANSP:TRANSPARENT
DTSTART;TZID=America/Denver:20260427T183000
DTEND;TZID=America/Denver:20260427T193000
DTSTAMP;TZID=America/Denver:20260424T210840
LOCATION:Eagle Public Library
GEO:39.650690;-106.827430
DESCRIPTION:Are you always talking about the books you're reading? Do you want to read the same book as people in your community and talk about it?

Join the Eagle Book Club! We meet on the last Monday of each month to discuss the book we've all been reading! You can find copies of the month's current selection at the Front Desk in the Eagle Public Library or online through the Libby app.
END:VEVENT
END:VCALENDAR
