BEGIN:VCALENDAR
VERSION:2.0
PRODID:-//evld.org//evld 1.0//EN
CALSCALE:GREGORIAN
METHOD:PUBLISH
BEGIN:VTIMEZONE
TZID:America/Denver
BEGIN:STANDARD
DTSTART:19700308T020000
RRULE:FREQ=YEARLY;BYMONTH=11;BYDAY=1SU
TZOFFSETFROM:-0600
TZOFFSETTO:-0700
TZNAME:MST
END:STANDARD
BEGIN:DAYLIGHT
DTSTART:19700308T020000
RRULE:FREQ=YEARLY;BYMONTH=3;BYDAY=2SU
TZOFFSETFROM:-0700
TZOFFSETTO:-0600
TZNAME:MDT
END:DAYLIGHT
END:VTIMEZONE
BEGIN:VEVENT
SUMMARY:Plant a Pizza Garden
UID:d5f15c63-617e-4aae-b9f2-f34f5b938df8
SEQUENCE:0
STATUS:CONFIRMED
TRANSP:TRANSPARENT
DTSTART;TZID=America/Denver:20260421T160000
DTEND;TZID=America/Denver:20260421T170000
DTSTAMP;TZID=America/Denver:20260422T005237
LOCATION:Gypsum Public Library
GEO:39.641560;-106.948550
DESCRIPTION:Learn to garden by planting tomatoes and other foods that go on a pizza! Supplies provided. All ages welcome.
END:VEVENT
END:VCALENDAR
