BEGIN:VCALENDAR
VERSION:2.0
PRODID:-//evld.org//evld 1.0//EN
CALSCALE:GREGORIAN
METHOD:PUBLISH
BEGIN:VTIMEZONE
TZID:America/Denver
BEGIN:STANDARD
DTSTART:19700308T020000
RRULE:FREQ=YEARLY;BYMONTH=11;BYDAY=1SU
TZOFFSETFROM:-0600
TZOFFSETTO:-0700
TZNAME:MST
END:STANDARD
BEGIN:DAYLIGHT
DTSTART:19700308T020000
RRULE:FREQ=YEARLY;BYMONTH=3;BYDAY=2SU
TZOFFSETFROM:-0700
TZOFFSETTO:-0600
TZNAME:MDT
END:DAYLIGHT
END:VTIMEZONE
BEGIN:VEVENT
SUMMARY:Family Movie: "Mulan"
UID:e507c066-6590-46f1-b48e-23ab050a949f
SEQUENCE:0
STATUS:CONFIRMED
TRANSP:TRANSPARENT
DTSTART;TZID=America/Denver:20260422T150000
DTEND;TZID=America/Denver:20260422T163000
DTSTAMP;TZID=America/Denver:20260422T080157
LOCATION:Eagle Public Library
GEO:39.650690;-106.827430
DESCRIPTION:The whole family is invited for a free movie and popcorn! We'll be watching "Mulan." Rated G; runtime 1hr 28min.
END:VEVENT
END:VCALENDAR
