BEGIN:VCALENDAR
VERSION:2.0
PRODID:-//evld.org//evld 1.0//EN
CALSCALE:GREGORIAN
METHOD:PUBLISH
BEGIN:VTIMEZONE
TZID:America/Denver
BEGIN:STANDARD
DTSTART:19700308T020000
RRULE:FREQ=YEARLY;BYMONTH=11;BYDAY=1SU
TZOFFSETFROM:-0600
TZOFFSETTO:-0700
TZNAME:MST
END:STANDARD
BEGIN:DAYLIGHT
DTSTART:19700308T020000
RRULE:FREQ=YEARLY;BYMONTH=3;BYDAY=2SU
TZOFFSETFROM:-0700
TZOFFSETTO:-0600
TZNAME:MDT
END:DAYLIGHT
END:VTIMEZONE
BEGIN:VEVENT
SUMMARY:Bilingual Family Storytime (0 - 6 years)
UID:760a3cc8-604f-4ab3-9633-10d56df9d4fc
SEQUENCE:0
STATUS:CONFIRMED
TRANSP:TRANSPARENT
DTSTART;TZID=America/Denver:20280119T110000
DTEND;TZID=America/Denver:20280119T114500
DTSTAMP;TZID=America/Denver:20260423T034740
LOCATION:Eagle Public Library
GEO:39.650690;-106.827430
DESCRIPTION:Stories, songs, rhymes and more in Spanish and English for children 0-6 years old. Followed by a simple craft. 
END:VEVENT
END:VCALENDAR
