BEGIN:VCALENDAR
VERSION:2.0
PRODID:-//evld.org//evld 1.0//EN
CALSCALE:GREGORIAN
METHOD:PUBLISH
BEGIN:VTIMEZONE
TZID:America/Denver
BEGIN:STANDARD
DTSTART:19700308T020000
RRULE:FREQ=YEARLY;BYMONTH=11;BYDAY=1SU
TZOFFSETFROM:-0600
TZOFFSETTO:-0700
TZNAME:MST
END:STANDARD
BEGIN:DAYLIGHT
DTSTART:19700308T020000
RRULE:FREQ=YEARLY;BYMONTH=3;BYDAY=2SU
TZOFFSETFROM:-0700
TZOFFSETTO:-0600
TZNAME:MDT
END:DAYLIGHT
END:VTIMEZONE
BEGIN:VEVENT
SUMMARY:Club de Lectura
UID:84656463-2464-46bd-b447-57e8eab189c8
SEQUENCE:0
STATUS:CONFIRMED
TRANSP:TRANSPARENT
DTSTART;TZID=America/Denver:20260420T180000
DTEND;TZID=America/Denver:20260420T193000
DTSTAMP;TZID=America/Denver:20260420T212359
LOCATION:Eagle Public Library
GEO:39.650690;-106.827430
DESCRIPTION:La lectura puede ser una actividad solitaria, por lo que las Bibliotecas del condado de Eagle creó oportunidades sociales para su disfrute. Compartiremos aperitivos, una buena charla, opiniones literarias en buena compañía,
¡únete a nosotros!
END:VEVENT
END:VCALENDAR
