BEGIN:VCALENDAR
VERSION:2.0
PRODID:-//evld.org//evld 1.0//EN
CALSCALE:GREGORIAN
METHOD:PUBLISH
BEGIN:VTIMEZONE
TZID:America/Denver
BEGIN:STANDARD
DTSTART:19700308T020000
RRULE:FREQ=YEARLY;BYMONTH=11;BYDAY=1SU
TZOFFSETFROM:-0600
TZOFFSETTO:-0700
TZNAME:MST
END:STANDARD
BEGIN:DAYLIGHT
DTSTART:19700308T020000
RRULE:FREQ=YEARLY;BYMONTH=3;BYDAY=2SU
TZOFFSETFROM:-0700
TZOFFSETTO:-0600
TZNAME:MDT
END:DAYLIGHT
END:VTIMEZONE
BEGIN:VEVENT
SUMMARY:Retirement Workshop
UID:80a66e79-9a9d-4af8-81b5-c2e54286acdb
SEQUENCE:0
STATUS:CONFIRMED
TRANSP:TRANSPARENT
DTSTART;TZID=America/Denver:20260422T180000
DTEND;TZID=America/Denver:20260422T190000
DTSTAMP;TZID=America/Denver:20260422T075644
LOCATION:Avon Public Library 
GEO:39.635367;-106.526901
DESCRIPTION:Market downturn, legacy planning, investment options, long-term care, tax changes, and much more. You might wonder what this all means for your retirement. You’ve worked really hard for what you’ve got. Are you ready to upgrade your retirement plan and optimize your benefits?

Join us at the Avon Branch Library for an informational workshop covering Taxes, Investments, Income, Healthcare, and Legacy Planning (including how to deal with the current market environment) on Wednesday, April 22, from 6:00 – 7:00 pm.
END:VEVENT
END:VCALENDAR
