BEGIN:VCALENDAR
VERSION:2.0
PRODID:-//evld.org//evld 1.0//EN
CALSCALE:GREGORIAN
METHOD:PUBLISH
BEGIN:VTIMEZONE
TZID:America/Denver
BEGIN:STANDARD
DTSTART:19700308T020000
RRULE:FREQ=YEARLY;BYMONTH=11;BYDAY=1SU
TZOFFSETFROM:-0600
TZOFFSETTO:-0700
TZNAME:MST
END:STANDARD
BEGIN:DAYLIGHT
DTSTART:19700308T020000
RRULE:FREQ=YEARLY;BYMONTH=3;BYDAY=2SU
TZOFFSETFROM:-0700
TZOFFSETTO:-0600
TZNAME:MDT
END:DAYLIGHT
END:VTIMEZONE
BEGIN:VEVENT
SUMMARY:Movie Night
UID:b27b5713-d91e-4f63-a256-9e82e3cd2a1b
SEQUENCE:0
STATUS:CONFIRMED
TRANSP:TRANSPARENT
DTSTART;TZID=America/Denver:20260504T160000
DTEND;TZID=America/Denver:20260504T180000
DTSTAMP;TZID=America/Denver:20260423T020701
LOCATION:Gypsum Public Library
GEO:39.641560;-106.948550
DESCRIPTION:Join us for delicious hot chocolate, popcorn, and Star Wars: A New Hope at Gypsum Public Library! For all ages
END:VEVENT
END:VCALENDAR
